BEGIN:VCALENDAR
VERSION:2.0
PRODID:-//Jamieson PAC - ECPv6.6.1//NONSGML v1.0//EN
CALSCALE:GREGORIAN
METHOD:PUBLISH
X-WR-CALNAME:Jamieson PAC
X-ORIGINAL-URL:https://jamiesonpac.com
X-WR-CALDESC:Events for Jamieson PAC
REFRESH-INTERVAL;VALUE=DURATION:PT1H
X-Robots-Tag:noindex
X-PUBLISHED-TTL:PT1H
BEGIN:VTIMEZONE
TZID:UTC
BEGIN:STANDARD
TZOFFSETFROM:+0000
TZOFFSETTO:+0000
TZNAME:UTC
DTSTART:20240101T000000
END:STANDARD
END:VTIMEZONE
BEGIN:VEVENT
DTSTART;TZID=UTC:20240903T090000
DTEND;TZID=UTC:20240903T150000
DTSTAMP:20260422T130000
CREATED:20240810T034013Z
LAST-MODIFIED:20240810T034411Z
UID:518-1725354000-1725375600@jamiesonpac.com
SUMMARY:First Day of School For Students
DESCRIPTION:
URL:https://jamiesonpac.com/event/first-day-of-school-for-students/
LOCATION:Dr. Annie B Jamieson Elementary School\, 6350 Tisdall St.\, Vancouver\, BC\, V5Z3N4\, Canada
END:VEVENT
END:VCALENDAR