BEGIN:VCALENDAR
VERSION:2.0
PRODID:-//Jamieson PAC - ECPv6.6.1//NONSGML v1.0//EN
CALSCALE:GREGORIAN
METHOD:PUBLISH
X-WR-CALNAME:Jamieson PAC
X-ORIGINAL-URL:https://jamiesonpac.com
X-WR-CALDESC:Events for Jamieson PAC
REFRESH-INTERVAL;VALUE=DURATION:PT1H
X-Robots-Tag:noindex
X-PUBLISHED-TTL:PT1H
BEGIN:VTIMEZONE
TZID:UTC
BEGIN:STANDARD
TZOFFSETFROM:+0000
TZOFFSETTO:+0000
TZNAME:UTC
DTSTART:20240101T000000
END:STANDARD
END:VTIMEZONE
BEGIN:VEVENT
DTSTART;TZID=UTC:20240918T190000
DTEND;TZID=UTC:20240918T200000
DTSTAMP:20260422T145640
CREATED:20240810T034330Z
LAST-MODIFIED:20240810T034330Z
UID:520-1726686000-1726689600@jamiesonpac.com
SUMMARY:PAC General Meeting 9/18
DESCRIPTION:In person at Jamieson Library – Snacks & Childcare provided!\nVirtual: https://meet.google.com/rxc-wwby-xna\nAudio only: #647-734-9430 PIN: 298 177 418#
URL:https://jamiesonpac.com/event/pac-general-meeting-9-18/
LOCATION:Dr. Annie B Jamieson Elementary School\, 6350 Tisdall St.\, Vancouver\, BC\, V5Z3N4\, Canada
END:VEVENT
END:VCALENDAR